Workbook

Sheet SCC - RGGI
F2: RGGI Forecast**
F3: ($Nominal/US Ton)
G4: RGGI, Inc** | H4: actuals
B5: SCC Feb 2021* | F5: 2017 | G5: 5.51 | H5: =(3.8+4.35+2.53+3)/4 -> 3.42 | M5: SCC - RGGI
B6: 3% discount | F6: 2018 | G6: =(G$8-G$5)/3+G5 -> 5.86 | H6: =(5.35+4.5+4.02+3.79)/4 -> 4.415 | M6: per ton | N6: per MWH
B7: $2020/metric ton | C7: $2020/US Ton | D7: $nominal/US ton | F7: 2019 | G7: =(G$8-G$5)/3+G6 -> 6.21 | H7: =(5.61+5.2+5.62+5.27)/4 -> 5.425 | N7: x 0.553
A8: 2020 | B8: 51.082 | C8: =0.907185*B8 -> 46.340824 | D8: =C8*'GDP-PI Rate'!C3 -> 46.340824 | F8: 2020 | G8: 6.56 | H8: =(7.41+6.82+5.75+5.65)/4 -> 6.4075 | M8: =D8-G8 -> 39.780824 | N8: =M8*0.553 -> 21.998796
A9: 2021 | B9: 52.15 | C9: =0.907185*B9 -> 47.309698 | D9: =C9*'GDP-PI Rate'!C4 -> 48.303201 | F9: 2021 | G9: =(G$11-G$8)/3+G8 -> 6.9766667 | M9: =D9-G9 -> 41.326535 | N9: =M9*0.553 -> 22.853574
A10: 2022 | B10: 53.219 | C10: =0.907185*B10 -> 48.279479 | D10: =C10*'GDP-PI Rate'!C5 -> 50.279215 | F10: 2022 | G10: =(G$11-G$8)/3+G9 -> 7.3933333 | L10: 1 | M10: =D10-G10 -> 42.885881 | N10: =M10*0.553 -> 23.715892 | P10: =N32 -> 31.025397
A11: 2023 | B11: 54.287 | C11: =0.907185*B11 -> 49.248352 | D11: =C11*'GDP-PI Rate'!C6 -> 52.365271 | F11: 2023 | G11: 7.81 | L11: 2 | M11: =D11-G11 -> 44.555271 | N11: =M11*0.553 -> 24.639065 | P11: =P10 -> 31.025397
A12: 2024 | B12: 55.355 | C12: =0.907185*B12 -> 50.217226 | D12: =C12*'GDP-PI Rate'!C7 -> 54.51677 | F12: 2024 | G12: =(G$14-G$11)/3+G11 -> 8.45 | L12: 3 | M12: =D12-G12 -> 46.06677 | N12: =M12*0.553 -> 25.474924 | P12: =P11 -> 31.025397
A13: 2025 | B13: 56.423 | C13: =0.907185*B13 -> 51.186099 | D13: =C13*'GDP-PI Rate'!C8 -> 56.735538 | F13: 2025 | G13: =(G$14-G$11)/3+G12 -> 9.09 | L13: 4 | M13: =D13-G13 -> 47.645538 | N13: =M13*0.553 -> 26.347982 | P13: =P12 -> 31.025397
A14: 2026 | B14: 57.491 | C14: =0.907185*B14 -> 52.154973 | D14: =C14*'GDP-PI Rate'!C9 -> 59.023452 | F14: 2026 | G14: 9.73 | L14: 5 | M14: =D14-G14 -> 49.293452 | N14: =M14*0.553 -> 27.259279 | P14: =P13 -> 31.025397
A15: 2027 | B15: 58.56 | C15: =0.907185*B15 -> 53.124754 | D15: =C15*'GDP-PI Rate'!C10 -> 61.383487 | F15: 2027 | G15: =(G$17-G$14)/3+G14 -> 10.346667 | L15: 6 | M15: =D15-G15 -> 51.03682 | N15: =M15*0.553 -> 28.223361 | P15: =P14 -> 31.025397
A16: 2028 | B16: 59.628 | C16: =0.907185*B16 -> 54.093627 | D16: =C16*'GDP-PI Rate'!C11 -> 63.815543 | F16: 2028 | G16: =(G$17-G$14)/3+G15 -> 10.963333 | L16: 7 | M16: =D16-G16 -> 52.85221 | N16: =M16*0.553 -> 29.227272 | P16: =P15 -> 31.025397
A17: 2029 | B17: 60.696 | C17: =0.907185*B17 -> 55.062501 | D17: =C17*'GDP-PI Rate'!C12 -> 66.322676 | F17: 2029 | G17: 11.58 | L17: 8 | M17: =D17-G17 -> 54.742676 | N17: =M17*0.553 -> 30.2727 | P17: =P16 -> 31.025397
A18: 2030 | B18: 61.764 | C18: =0.907185*B18 -> 56.031374 | D18: =C18*'GDP-PI Rate'!C13 -> 68.906966 | F18: 2030 | G18: =(G$17/G$5)^(1/12)*G17 -> 12.319365 | L18: 9 | M18: =D18-G18 -> 56.587601 | N18: =M18*0.553 -> 31.292943 | P18: =P17 -> 31.025397
A19: 2031 | B19: 62.908 | C19: =0.907185*B19 -> 57.069194 | D19: =C19*'GDP-PI Rate'!C14 -> 71.657117 | F19: 2031 | G19: =(G$17/G$5)^(1/12)*G18 -> 13.105936 | L19: 10 | M19: =D19-G19 -> 58.551181 | N19: =M19*0.553 -> 32.378803 | P19: =P18 -> 31.025397
A20: 2032 | B20: 64.052 | C20: =0.907185*B20 -> 58.107014 | D20: =C20*'GDP-PI Rate'!C15 -> 74.492387 | F20: 2032 | G20: =(G$17/G$5)^(1/12)*G19 -> 13.942729 | L20: 11 | M20: =D20-G20 -> 60.549657 | N20: =M20*0.553 -> 33.483961 | P20: =P19 -> 31.025397
A21: 2033 | B21: 65.196 | C21: =0.907185*B21 -> 59.144833 | D21: =C21*'GDP-PI Rate'!C16 -> 77.415137 | F21: 2033 | G21: =(G$17/G$5)^(1/12)*G20 -> 14.83295 | L21: 12 | M21: =D21-G21 -> 62.582187 | N21: =M21*0.553 -> 34.607949 | P21: =P20 -> 31.025397
A22: 2034 | B22: 66.34 | C22: =0.907185*B22 -> 60.182653 | D22: =C22*'GDP-PI Rate'!C17 -> 80.427792 | F22: 2034 | G22: =(G$17/G$5)^(1/12)*G21 -> 15.780011 | L22: 13 | M22: =D22-G22 -> 64.647781 | N22: =M22*0.553 -> 35.750223 | P22: =P21 -> 31.025397
A23: 2035 | B23: 67.484 | C23: =0.907185*B23 -> 61.220473 | D23: =C23*'GDP-PI Rate'!C18 -> 83.532838 | F23: 2035 | G23: =(G$17/G$5)^(1/12)*G22 -> 16.787539 | L23: 14 | M23: =D23-G23 -> 66.745299 | N23: =M23*0.553 -> 36.91015 | P23: =P22 -> 31.025397
A24: 2036 | B24: 68.628 | C24: =0.907185*B24 -> 62.258292 | D24: =C24*'GDP-PI Rate'!C19 -> 86.732828 | F24: 2036 | G24: =(G$17/G$5)^(1/12)*G23 -> 17.859397 | L24: 15 | M24: =D24-G24 -> 68.873431 | N24: =M24*0.553 -> 38.087007 | P24: =P23 -> 31.025397
A25: 2037 | B25: 69.772 | C25: =0.907185*B25 -> 63.296112 | D25: =C25*'GDP-PI Rate'!C20 -> 90.030379 | F25: 2037 | G25: =(G$17/G$5)^(1/12)*G24 -> 18.999691 | L25: 16 | M25: =D25-G25 -> 71.030688 | N25: =M25*0.553 -> 39.279971 | P25: =P24 -> 31.025397
A26: 2038 | B26: 70.916 | C26: =0.907185*B26 -> 64.333931 | D26: =C26*'GDP-PI Rate'!C21 -> 93.428178 | F26: 2038 | G26: =(G$17/G$5)^(1/12)*G25 -> 20.212791 | L26: 17 | M26: =D26-G26 -> 73.215387 | N26: =M26*0.553 -> 40.488109 | P26: =P25 -> 31.025397
A27: 2039 | B27: 72.06 | C27: =0.907185*B27 -> 65.371751 | D27: =C27*'GDP-PI Rate'!C22 -> 96.928981 | F27: 2039 | G27: =(G$17/G$5)^(1/12)*G26 -> 21.503345 | L27: 18 | M27: =D27-G27 -> 75.425636 | N27: =M27*0.553 -> 41.710377 | P27: =P26 -> 31.025397
A28: 2040 | B28: 73.204 | C28: =0.907185*B28 -> 66.409571 | D28: =C28*'GDP-PI Rate'!C23 -> 100.53562 | F28: 2040 | G28: =(G$17/G$5)^(1/12)*G27 -> 22.876299 | L28: 19 | M28: =D28-G28 -> 77.659317 | N28: =M28*0.553 -> 42.945602 | P28: =P27 -> 31.025397
A29: 2041 | B29: 74.35 | C29: =0.907185*B29 -> 67.449205 | D29: =C29*'GDP-PI Rate'!C24 -> 104.25379 | F29: 2041 | G29: =(G$17/G$5)^(1/12)*G28 -> 24.336915 | L29: 20 | M29: =D29-G29 -> 79.916874 | N29: =M29*0.553 -> 44.194031 | P29: =P28 -> 31.025397
A30: 2042 | B30: 75.496 | C30: =0.907185*B30 -> 68.488839 | D30: =C30*'GDP-PI Rate'!C25 -> 108.08379 | F30: 2042 | G30: =(G$17/G$5)^(1/12)*G29 -> 25.890788 | M30: NPV | N30: =NPV(WACC!$C$10,N10:N29) -> 333.28892 | P30: =NPV(WACC!$C$10,P10:P29) -> 333.28892
A31: 2043 | B31: 76.642 | C31: =0.907185*B31 -> 69.528473 | D31: =C31*'GDP-PI Rate'!C26 -> 112.02867 | F31: 2043 | G31: =(G$17/G$5)^(1/12)*G30 -> 27.543873
A32: 2044 | B32: 77.788 | C32: =0.907185*B32 -> 70.568107 | D32: =C32*'GDP-PI Rate'!C27 -> 116.09158 | F32: 2044 | G32: =(G$17/G$5)^(1/12)*G31 -> 29.302506 | M32: Constant 20 year payment that yields same NPV | N32: =-PMT(WACC!C10,20,N30) -> 31.025397
A33: 2045 | B33: 78.933 | C33: =0.907185*B33 -> 71.606834 | D33: =C33*'GDP-PI Rate'!C28 -> 120.27419 | F33: 2045 | G33: =(G$17/G$5)^(1/12)*G32 -> 31.173424
A34: 2046 | B34: 80.079 | C34: =0.907185*B34 -> 72.646468 | D34: =C34*'GDP-PI Rate'!C29 -> 124.58284 | F34: 2046 | G34: =(G$17/G$5)^(1/12)*G33 -> 33.163797
A35: 2047 | B35: 81.225 | C35: =0.907185*B35 -> 73.686102 | D35: =C35*'GDP-PI Rate'!C30 -> 129.01941 | F35: 2047 | G35: =(G$17/G$5)^(1/12)*G34 -> 35.281253
A36: 2048 | B36: 82.371 | C36: =0.907185*B36 -> 74.725736 | D36: =C36*'GDP-PI Rate'!C31 -> 133.58737 | F36: 2048 | G36: =(G$17/G$5)^(1/12)*G35 -> 37.533905
A37: 2049 | B37: 83.516 | C37: =0.907185*B37 -> 75.764462 | D37: =C37*'GDP-PI Rate'!C32 -> 138.28864 | F37: 2049 | G37: =(G$17/G$5)^(1/12)*G36 -> 39.930385
A38: 2050 | B38: 84.662 | C38: =0.907185*B38 -> 76.804096 | D38: =C38*'GDP-PI Rate'!C33 -> 143.13013 | F38: 2050 | G38: =(G$17/G$5)^(1/12)*G37 -> 42.479876
A41: *Source:
B42: Technical Support Document: Social Cost of Carbon, Methane, and Nitrous Oxide; Interim Estimates under Executive Order 13990 Interagency Working Group on Social Cost of Greenhouse Gases, United States Government. February 2021.
B43: and
...

Sheet GDP-PI Rate
C2: GDP-PI
B3: 2020 | C3: 1
B4: 2021 | C4: =1.021*C3 -> 1.021
B5: 2022 | C5: =1.02*C4 -> 1.04142
B6: 2023 | C6: =1.021*C5 -> 1.0632898
B7: 2024 | C7: =1.021*C6 -> 1.0856189
B8: 2025 | C8: =1.021*C7 -> 1.1084169
B9: 2026 | C9: =1.021*C8 -> 1.1316937
B10: 2027 | C10: =1.021*C9 -> 1.1554592
B11: 2028 | C11: =1.021*C10 -> 1.1797239
B12: 2029 | C12: =1.021*C11 -> 1.2044981
B13: 2030 | C13: =1.021*C12 -> 1.2297925
B14: 2031 | C14: =1.021*C13 -> 1.2556182
B15: 2032 | C15: =1.021*C14 -> 1.2819862
B16: 2033 | C16: =1.021*C15 -> 1.3089079
B17: 2034 | C17: =1.021*C16 -> 1.3363949
... B33: 2050 | C33: =1.021*C32 -> 1.8635742

Sheet WACC
B2: Weighted Average Cost of Capital (WACC) from BCA Handbooks
B3: Utility | C3: WACC
B4: CHGE | C4: 0.0662
B5: CE | C5: 0.0661
B6: NGRID | C6: 0.0645
B7: NYSEG | C7: 0.0681
B8: O&R | C8: 0.0696
B9: RGE | C9: 0.0748
C10: =AVERAGE(C4:C9) -> 0.068216667
